BEGIN:VCALENDAR
VERSION:2.0
PRODID:-//Associazione Amélie - ECPv6.15.20//NONSGML v1.0//EN
CALSCALE:GREGORIAN
METHOD:PUBLISH
X-WR-CALNAME:Associazione Amélie
X-ORIGINAL-URL:https://associazioneamelie.ch
X-WR-CALDESC:Eventi per Associazione Amélie
REFRESH-INTERVAL;VALUE=DURATION:PT1H
X-Robots-Tag:noindex
X-PUBLISHED-TTL:PT1H
BEGIN:VTIMEZONE
TZID:Europe/Zurich
BEGIN:DAYLIGHT
TZOFFSETFROM:+0100
TZOFFSETTO:+0200
TZNAME:CEST
DTSTART:20230326T010000
END:DAYLIGHT
BEGIN:STANDARD
TZOFFSETFROM:+0200
TZOFFSETTO:+0100
TZNAME:CET
DTSTART:20231029T010000
END:STANDARD
BEGIN:DAYLIGHT
TZOFFSETFROM:+0100
TZOFFSETTO:+0200
TZNAME:CEST
DTSTART:20240331T010000
END:DAYLIGHT
BEGIN:STANDARD
TZOFFSETFROM:+0200
TZOFFSETTO:+0100
TZNAME:CET
DTSTART:20241027T010000
END:STANDARD
BEGIN:DAYLIGHT
TZOFFSETFROM:+0100
TZOFFSETTO:+0200
TZNAME:CEST
DTSTART:20250330T010000
END:DAYLIGHT
BEGIN:STANDARD
TZOFFSETFROM:+0200
TZOFFSETTO:+0100
TZNAME:CET
DTSTART:20251026T010000
END:STANDARD
END:VTIMEZONE
BEGIN:VEVENT
DTSTART;TZID=Europe/Zurich:20240402T154500
DTEND;TZID=Europe/Zurich:20240402T181500
DTSTAMP:20260421T185926
CREATED:20230907T171617Z
LAST-MODIFIED:20240410T144339Z
UID:10003402-1712072700-1712081700@associazioneamelie.ch
SUMMARY:Corso di italiano A1/ A2\,  livello base per adulti migranti
DESCRIPTION:Tutti i corsi si svolgono da settembre a giugno\, con cadenza annuale\, una o due volte a settimana a seconda delle esigenze degli utenti iscritti. Sono aperti a tutti gli stranieri e alle persone che provengono da altri cantoni. \nSi richiede una presenza alle lezioni dell’80%  per il rilascio dell’attestato di frequenza. \n  \n\n\n\nGIORNI E ORARI: \nMartedì dalle 15.45 alle 18:15\n\n\nINSEGNANTE\nTiziana Marco\n\n\nLUOGO: \nCentro Amélie\, via Ceresio 43\, 6963 Pregassona \nSala 7\n\n\nCOSTO: \ngratuito\, si richiede un contributo di 15.- per i libri
URL:https://associazioneamelie.ch/corsi/corso-di-italiano-a1-a2-livello-base-per-adulti-migranti/2024-04-02/
LOCATION:Associazione Amélie\, Via Ceresio 43\, Pregassona\, 6963\, Svizzera
CATEGORIES:Italiano,Lingue
ATTACH;FMTTYPE=image/png:https://associazioneamelie.ch/wp-content/uploads/2024/04/corsi-di-italiano.png
END:VEVENT
BEGIN:VEVENT
DTSTART;TZID=Europe/Zurich:20240403T090000
DTEND;TZID=Europe/Zurich:20240403T110000
DTSTAMP:20260421T185926
CREATED:20240213T104435Z
LAST-MODIFIED:20240410T143924Z
UID:10004103-1712134800-1712142000@associazioneamelie.ch
SUMMARY:Corso di alfabetizzazione livello A0\, per adulti migranti
DESCRIPTION:Tutti i corsi si svolgono da settembre a giugno\, con cadenza annuale\, una o due volte a settimana a seconda delle esigenze degli utenti iscritti. Sono aperti a tutti gli stranieri e alle persone che provengono da altri cantoni. \nSi richiede una presenza alle lezioni dell’80%  per il rilascio dell’attestato di frequenza. \n  \n\n\n\nGIORNI E ORARI: \nMercoledì\, giovedì e venerdì dalle 9 alle 11\n\n\nINSEGNANTE\nTiziana Marco\n\n\nLUOGO: \nCentro Amélie\, via Ceresio 43\, 6963 Pregassona \nSala 7\n\n\nCOSTO: \ngratuito\, si richiede un contributo di 15.- per i libri
URL:https://associazioneamelie.ch/corsi/corso-di-alfabetizzazione-livello-a0-per-adulti-migranti-2/2024-04-03/
LOCATION:Associazione Amélie\, Via Ceresio 43\, Pregassona\, 6963\, Svizzera
CATEGORIES:Italiano,Lingue
ATTACH;FMTTYPE=image/png:https://associazioneamelie.ch/wp-content/uploads/2024/04/corsi-di-italiano.png
END:VEVENT
BEGIN:VEVENT
DTSTART;TZID=Europe/Zurich:20240404T090000
DTEND;TZID=Europe/Zurich:20240404T110000
DTSTAMP:20260421T185926
CREATED:20240213T104435Z
LAST-MODIFIED:20240410T143924Z
UID:10004104-1712221200-1712228400@associazioneamelie.ch
SUMMARY:Corso di alfabetizzazione livello A0\, per adulti migranti
DESCRIPTION:Tutti i corsi si svolgono da settembre a giugno\, con cadenza annuale\, una o due volte a settimana a seconda delle esigenze degli utenti iscritti. Sono aperti a tutti gli stranieri e alle persone che provengono da altri cantoni. \nSi richiede una presenza alle lezioni dell’80%  per il rilascio dell’attestato di frequenza. \n  \n\n\n\nGIORNI E ORARI: \nMercoledì\, giovedì e venerdì dalle 9 alle 11\n\n\nINSEGNANTE\nTiziana Marco\n\n\nLUOGO: \nCentro Amélie\, via Ceresio 43\, 6963 Pregassona \nSala 7\n\n\nCOSTO: \ngratuito\, si richiede un contributo di 15.- per i libri
URL:https://associazioneamelie.ch/corsi/corso-di-alfabetizzazione-livello-a0-per-adulti-migranti-2/2024-04-04/
LOCATION:Associazione Amélie\, Via Ceresio 43\, Pregassona\, 6963\, Svizzera
CATEGORIES:Italiano,Lingue
ATTACH;FMTTYPE=image/png:https://associazioneamelie.ch/wp-content/uploads/2024/04/corsi-di-italiano.png
END:VEVENT
BEGIN:VEVENT
DTSTART;TZID=Europe/Zurich:20240405T090000
DTEND;TZID=Europe/Zurich:20240405T110000
DTSTAMP:20260421T185926
CREATED:20240213T104435Z
LAST-MODIFIED:20240410T143924Z
UID:10004105-1712307600-1712314800@associazioneamelie.ch
SUMMARY:Corso di alfabetizzazione livello A0\, per adulti migranti
DESCRIPTION:Tutti i corsi si svolgono da settembre a giugno\, con cadenza annuale\, una o due volte a settimana a seconda delle esigenze degli utenti iscritti. Sono aperti a tutti gli stranieri e alle persone che provengono da altri cantoni. \nSi richiede una presenza alle lezioni dell’80%  per il rilascio dell’attestato di frequenza. \n  \n\n\n\nGIORNI E ORARI: \nMercoledì\, giovedì e venerdì dalle 9 alle 11\n\n\nINSEGNANTE\nTiziana Marco\n\n\nLUOGO: \nCentro Amélie\, via Ceresio 43\, 6963 Pregassona \nSala 7\n\n\nCOSTO: \ngratuito\, si richiede un contributo di 15.- per i libri
URL:https://associazioneamelie.ch/corsi/corso-di-alfabetizzazione-livello-a0-per-adulti-migranti-2/2024-04-05/
LOCATION:Associazione Amélie\, Via Ceresio 43\, Pregassona\, 6963\, Svizzera
CATEGORIES:Italiano,Lingue
ATTACH;FMTTYPE=image/png:https://associazioneamelie.ch/wp-content/uploads/2024/04/corsi-di-italiano.png
END:VEVENT
BEGIN:VEVENT
DTSTART;TZID=Europe/Zurich:20240409T154500
DTEND;TZID=Europe/Zurich:20240409T181500
DTSTAMP:20260421T185926
CREATED:20230907T171617Z
LAST-MODIFIED:20240410T144339Z
UID:10003403-1712677500-1712686500@associazioneamelie.ch
SUMMARY:Corso di italiano A1/ A2\,  livello base per adulti migranti
DESCRIPTION:Tutti i corsi si svolgono da settembre a giugno\, con cadenza annuale\, una o due volte a settimana a seconda delle esigenze degli utenti iscritti. Sono aperti a tutti gli stranieri e alle persone che provengono da altri cantoni. \nSi richiede una presenza alle lezioni dell’80%  per il rilascio dell’attestato di frequenza. \n  \n\n\n\nGIORNI E ORARI: \nMartedì dalle 15.45 alle 18:15\n\n\nINSEGNANTE\nTiziana Marco\n\n\nLUOGO: \nCentro Amélie\, via Ceresio 43\, 6963 Pregassona \nSala 7\n\n\nCOSTO: \ngratuito\, si richiede un contributo di 15.- per i libri
URL:https://associazioneamelie.ch/corsi/corso-di-italiano-a1-a2-livello-base-per-adulti-migranti/2024-04-09/
LOCATION:Associazione Amélie\, Via Ceresio 43\, Pregassona\, 6963\, Svizzera
CATEGORIES:Italiano,Lingue
ATTACH;FMTTYPE=image/png:https://associazioneamelie.ch/wp-content/uploads/2024/04/corsi-di-italiano.png
END:VEVENT
BEGIN:VEVENT
DTSTART;TZID=Europe/Zurich:20240410T090000
DTEND;TZID=Europe/Zurich:20240410T110000
DTSTAMP:20260421T185926
CREATED:20240213T104435Z
LAST-MODIFIED:20240410T143924Z
UID:10004106-1712739600-1712746800@associazioneamelie.ch
SUMMARY:Corso di alfabetizzazione livello A0\, per adulti migranti
DESCRIPTION:Tutti i corsi si svolgono da settembre a giugno\, con cadenza annuale\, una o due volte a settimana a seconda delle esigenze degli utenti iscritti. Sono aperti a tutti gli stranieri e alle persone che provengono da altri cantoni. \nSi richiede una presenza alle lezioni dell’80%  per il rilascio dell’attestato di frequenza. \n  \n\n\n\nGIORNI E ORARI: \nMercoledì\, giovedì e venerdì dalle 9 alle 11\n\n\nINSEGNANTE\nTiziana Marco\n\n\nLUOGO: \nCentro Amélie\, via Ceresio 43\, 6963 Pregassona \nSala 7\n\n\nCOSTO: \ngratuito\, si richiede un contributo di 15.- per i libri
URL:https://associazioneamelie.ch/corsi/corso-di-alfabetizzazione-livello-a0-per-adulti-migranti-2/2024-04-10/
LOCATION:Associazione Amélie\, Via Ceresio 43\, Pregassona\, 6963\, Svizzera
CATEGORIES:Italiano,Lingue
ATTACH;FMTTYPE=image/png:https://associazioneamelie.ch/wp-content/uploads/2024/04/corsi-di-italiano.png
END:VEVENT
BEGIN:VEVENT
DTSTART;TZID=Europe/Zurich:20240411T090000
DTEND;TZID=Europe/Zurich:20240411T110000
DTSTAMP:20260421T185926
CREATED:20240213T104435Z
LAST-MODIFIED:20240410T143924Z
UID:10004107-1712826000-1712833200@associazioneamelie.ch
SUMMARY:Corso di alfabetizzazione livello A0\, per adulti migranti
DESCRIPTION:Tutti i corsi si svolgono da settembre a giugno\, con cadenza annuale\, una o due volte a settimana a seconda delle esigenze degli utenti iscritti. Sono aperti a tutti gli stranieri e alle persone che provengono da altri cantoni. \nSi richiede una presenza alle lezioni dell’80%  per il rilascio dell’attestato di frequenza. \n  \n\n\n\nGIORNI E ORARI: \nMercoledì\, giovedì e venerdì dalle 9 alle 11\n\n\nINSEGNANTE\nTiziana Marco\n\n\nLUOGO: \nCentro Amélie\, via Ceresio 43\, 6963 Pregassona \nSala 7\n\n\nCOSTO: \ngratuito\, si richiede un contributo di 15.- per i libri
URL:https://associazioneamelie.ch/corsi/corso-di-alfabetizzazione-livello-a0-per-adulti-migranti-2/2024-04-11/
LOCATION:Associazione Amélie\, Via Ceresio 43\, Pregassona\, 6963\, Svizzera
CATEGORIES:Italiano,Lingue
ATTACH;FMTTYPE=image/png:https://associazioneamelie.ch/wp-content/uploads/2024/04/corsi-di-italiano.png
END:VEVENT
BEGIN:VEVENT
DTSTART;TZID=Europe/Zurich:20240412T090000
DTEND;TZID=Europe/Zurich:20240412T110000
DTSTAMP:20260421T185926
CREATED:20240213T104435Z
LAST-MODIFIED:20240410T143924Z
UID:10004108-1712912400-1712919600@associazioneamelie.ch
SUMMARY:Corso di alfabetizzazione livello A0\, per adulti migranti
DESCRIPTION:Tutti i corsi si svolgono da settembre a giugno\, con cadenza annuale\, una o due volte a settimana a seconda delle esigenze degli utenti iscritti. Sono aperti a tutti gli stranieri e alle persone che provengono da altri cantoni. \nSi richiede una presenza alle lezioni dell’80%  per il rilascio dell’attestato di frequenza. \n  \n\n\n\nGIORNI E ORARI: \nMercoledì\, giovedì e venerdì dalle 9 alle 11\n\n\nINSEGNANTE\nTiziana Marco\n\n\nLUOGO: \nCentro Amélie\, via Ceresio 43\, 6963 Pregassona \nSala 7\n\n\nCOSTO: \ngratuito\, si richiede un contributo di 15.- per i libri
URL:https://associazioneamelie.ch/corsi/corso-di-alfabetizzazione-livello-a0-per-adulti-migranti-2/2024-04-12/
LOCATION:Associazione Amélie\, Via Ceresio 43\, Pregassona\, 6963\, Svizzera
CATEGORIES:Italiano,Lingue
ATTACH;FMTTYPE=image/png:https://associazioneamelie.ch/wp-content/uploads/2024/04/corsi-di-italiano.png
END:VEVENT
BEGIN:VEVENT
DTSTART;TZID=Europe/Zurich:20240416T154500
DTEND;TZID=Europe/Zurich:20240416T181500
DTSTAMP:20260421T185926
CREATED:20230907T171617Z
LAST-MODIFIED:20240410T144339Z
UID:10003404-1713282300-1713291300@associazioneamelie.ch
SUMMARY:Corso di italiano A1/ A2\,  livello base per adulti migranti
DESCRIPTION:Tutti i corsi si svolgono da settembre a giugno\, con cadenza annuale\, una o due volte a settimana a seconda delle esigenze degli utenti iscritti. Sono aperti a tutti gli stranieri e alle persone che provengono da altri cantoni. \nSi richiede una presenza alle lezioni dell’80%  per il rilascio dell’attestato di frequenza. \n  \n\n\n\nGIORNI E ORARI: \nMartedì dalle 15.45 alle 18:15\n\n\nINSEGNANTE\nTiziana Marco\n\n\nLUOGO: \nCentro Amélie\, via Ceresio 43\, 6963 Pregassona \nSala 7\n\n\nCOSTO: \ngratuito\, si richiede un contributo di 15.- per i libri
URL:https://associazioneamelie.ch/corsi/corso-di-italiano-a1-a2-livello-base-per-adulti-migranti/2024-04-16/
LOCATION:Associazione Amélie\, Via Ceresio 43\, Pregassona\, 6963\, Svizzera
CATEGORIES:Italiano,Lingue
ATTACH;FMTTYPE=image/png:https://associazioneamelie.ch/wp-content/uploads/2024/04/corsi-di-italiano.png
END:VEVENT
BEGIN:VEVENT
DTSTART;TZID=Europe/Zurich:20240417T090000
DTEND;TZID=Europe/Zurich:20240417T110000
DTSTAMP:20260421T185926
CREATED:20240213T104435Z
LAST-MODIFIED:20240410T143924Z
UID:10004109-1713344400-1713351600@associazioneamelie.ch
SUMMARY:Corso di alfabetizzazione livello A0\, per adulti migranti
DESCRIPTION:Tutti i corsi si svolgono da settembre a giugno\, con cadenza annuale\, una o due volte a settimana a seconda delle esigenze degli utenti iscritti. Sono aperti a tutti gli stranieri e alle persone che provengono da altri cantoni. \nSi richiede una presenza alle lezioni dell’80%  per il rilascio dell’attestato di frequenza. \n  \n\n\n\nGIORNI E ORARI: \nMercoledì\, giovedì e venerdì dalle 9 alle 11\n\n\nINSEGNANTE\nTiziana Marco\n\n\nLUOGO: \nCentro Amélie\, via Ceresio 43\, 6963 Pregassona \nSala 7\n\n\nCOSTO: \ngratuito\, si richiede un contributo di 15.- per i libri
URL:https://associazioneamelie.ch/corsi/corso-di-alfabetizzazione-livello-a0-per-adulti-migranti-2/2024-04-17/
LOCATION:Associazione Amélie\, Via Ceresio 43\, Pregassona\, 6963\, Svizzera
CATEGORIES:Italiano,Lingue
ATTACH;FMTTYPE=image/png:https://associazioneamelie.ch/wp-content/uploads/2024/04/corsi-di-italiano.png
END:VEVENT
BEGIN:VEVENT
DTSTART;TZID=Europe/Zurich:20240418T090000
DTEND;TZID=Europe/Zurich:20240418T110000
DTSTAMP:20260421T185926
CREATED:20240213T104435Z
LAST-MODIFIED:20240410T143924Z
UID:10004110-1713430800-1713438000@associazioneamelie.ch
SUMMARY:Corso di alfabetizzazione livello A0\, per adulti migranti
DESCRIPTION:Tutti i corsi si svolgono da settembre a giugno\, con cadenza annuale\, una o due volte a settimana a seconda delle esigenze degli utenti iscritti. Sono aperti a tutti gli stranieri e alle persone che provengono da altri cantoni. \nSi richiede una presenza alle lezioni dell’80%  per il rilascio dell’attestato di frequenza. \n  \n\n\n\nGIORNI E ORARI: \nMercoledì\, giovedì e venerdì dalle 9 alle 11\n\n\nINSEGNANTE\nTiziana Marco\n\n\nLUOGO: \nCentro Amélie\, via Ceresio 43\, 6963 Pregassona \nSala 7\n\n\nCOSTO: \ngratuito\, si richiede un contributo di 15.- per i libri
URL:https://associazioneamelie.ch/corsi/corso-di-alfabetizzazione-livello-a0-per-adulti-migranti-2/2024-04-18/
LOCATION:Associazione Amélie\, Via Ceresio 43\, Pregassona\, 6963\, Svizzera
CATEGORIES:Italiano,Lingue
ATTACH;FMTTYPE=image/png:https://associazioneamelie.ch/wp-content/uploads/2024/04/corsi-di-italiano.png
END:VEVENT
BEGIN:VEVENT
DTSTART;TZID=Europe/Zurich:20240419T090000
DTEND;TZID=Europe/Zurich:20240419T110000
DTSTAMP:20260421T185926
CREATED:20240213T104435Z
LAST-MODIFIED:20240410T143924Z
UID:10004111-1713517200-1713524400@associazioneamelie.ch
SUMMARY:Corso di alfabetizzazione livello A0\, per adulti migranti
DESCRIPTION:Tutti i corsi si svolgono da settembre a giugno\, con cadenza annuale\, una o due volte a settimana a seconda delle esigenze degli utenti iscritti. Sono aperti a tutti gli stranieri e alle persone che provengono da altri cantoni. \nSi richiede una presenza alle lezioni dell’80%  per il rilascio dell’attestato di frequenza. \n  \n\n\n\nGIORNI E ORARI: \nMercoledì\, giovedì e venerdì dalle 9 alle 11\n\n\nINSEGNANTE\nTiziana Marco\n\n\nLUOGO: \nCentro Amélie\, via Ceresio 43\, 6963 Pregassona \nSala 7\n\n\nCOSTO: \ngratuito\, si richiede un contributo di 15.- per i libri
URL:https://associazioneamelie.ch/corsi/corso-di-alfabetizzazione-livello-a0-per-adulti-migranti-2/2024-04-19/
LOCATION:Associazione Amélie\, Via Ceresio 43\, Pregassona\, 6963\, Svizzera
CATEGORIES:Italiano,Lingue
ATTACH;FMTTYPE=image/png:https://associazioneamelie.ch/wp-content/uploads/2024/04/corsi-di-italiano.png
END:VEVENT
BEGIN:VEVENT
DTSTART;TZID=Europe/Zurich:20240423T154500
DTEND;TZID=Europe/Zurich:20240423T181500
DTSTAMP:20260421T185926
CREATED:20230907T171617Z
LAST-MODIFIED:20240410T144339Z
UID:10003405-1713887100-1713896100@associazioneamelie.ch
SUMMARY:Corso di italiano A1/ A2\,  livello base per adulti migranti
DESCRIPTION:Tutti i corsi si svolgono da settembre a giugno\, con cadenza annuale\, una o due volte a settimana a seconda delle esigenze degli utenti iscritti. Sono aperti a tutti gli stranieri e alle persone che provengono da altri cantoni. \nSi richiede una presenza alle lezioni dell’80%  per il rilascio dell’attestato di frequenza. \n  \n\n\n\nGIORNI E ORARI: \nMartedì dalle 15.45 alle 18:15\n\n\nINSEGNANTE\nTiziana Marco\n\n\nLUOGO: \nCentro Amélie\, via Ceresio 43\, 6963 Pregassona \nSala 7\n\n\nCOSTO: \ngratuito\, si richiede un contributo di 15.- per i libri
URL:https://associazioneamelie.ch/corsi/corso-di-italiano-a1-a2-livello-base-per-adulti-migranti/2024-04-23/
LOCATION:Associazione Amélie\, Via Ceresio 43\, Pregassona\, 6963\, Svizzera
CATEGORIES:Italiano,Lingue
ATTACH;FMTTYPE=image/png:https://associazioneamelie.ch/wp-content/uploads/2024/04/corsi-di-italiano.png
END:VEVENT
BEGIN:VEVENT
DTSTART;TZID=Europe/Zurich:20240424T090000
DTEND;TZID=Europe/Zurich:20240424T110000
DTSTAMP:20260421T185926
CREATED:20240213T104435Z
LAST-MODIFIED:20240410T143924Z
UID:10004112-1713949200-1713956400@associazioneamelie.ch
SUMMARY:Corso di alfabetizzazione livello A0\, per adulti migranti
DESCRIPTION:Tutti i corsi si svolgono da settembre a giugno\, con cadenza annuale\, una o due volte a settimana a seconda delle esigenze degli utenti iscritti. Sono aperti a tutti gli stranieri e alle persone che provengono da altri cantoni. \nSi richiede una presenza alle lezioni dell’80%  per il rilascio dell’attestato di frequenza. \n  \n\n\n\nGIORNI E ORARI: \nMercoledì\, giovedì e venerdì dalle 9 alle 11\n\n\nINSEGNANTE\nTiziana Marco\n\n\nLUOGO: \nCentro Amélie\, via Ceresio 43\, 6963 Pregassona \nSala 7\n\n\nCOSTO: \ngratuito\, si richiede un contributo di 15.- per i libri
URL:https://associazioneamelie.ch/corsi/corso-di-alfabetizzazione-livello-a0-per-adulti-migranti-2/2024-04-24/
LOCATION:Associazione Amélie\, Via Ceresio 43\, Pregassona\, 6963\, Svizzera
CATEGORIES:Italiano,Lingue
ATTACH;FMTTYPE=image/png:https://associazioneamelie.ch/wp-content/uploads/2024/04/corsi-di-italiano.png
END:VEVENT
BEGIN:VEVENT
DTSTART;TZID=Europe/Zurich:20240425T090000
DTEND;TZID=Europe/Zurich:20240425T110000
DTSTAMP:20260421T185926
CREATED:20240213T104435Z
LAST-MODIFIED:20240410T143924Z
UID:10004113-1714035600-1714042800@associazioneamelie.ch
SUMMARY:Corso di alfabetizzazione livello A0\, per adulti migranti
DESCRIPTION:Tutti i corsi si svolgono da settembre a giugno\, con cadenza annuale\, una o due volte a settimana a seconda delle esigenze degli utenti iscritti. Sono aperti a tutti gli stranieri e alle persone che provengono da altri cantoni. \nSi richiede una presenza alle lezioni dell’80%  per il rilascio dell’attestato di frequenza. \n  \n\n\n\nGIORNI E ORARI: \nMercoledì\, giovedì e venerdì dalle 9 alle 11\n\n\nINSEGNANTE\nTiziana Marco\n\n\nLUOGO: \nCentro Amélie\, via Ceresio 43\, 6963 Pregassona \nSala 7\n\n\nCOSTO: \ngratuito\, si richiede un contributo di 15.- per i libri
URL:https://associazioneamelie.ch/corsi/corso-di-alfabetizzazione-livello-a0-per-adulti-migranti-2/2024-04-25/
LOCATION:Associazione Amélie\, Via Ceresio 43\, Pregassona\, 6963\, Svizzera
CATEGORIES:Italiano,Lingue
ATTACH;FMTTYPE=image/png:https://associazioneamelie.ch/wp-content/uploads/2024/04/corsi-di-italiano.png
END:VEVENT
BEGIN:VEVENT
DTSTART;TZID=Europe/Zurich:20240426T090000
DTEND;TZID=Europe/Zurich:20240426T110000
DTSTAMP:20260421T185926
CREATED:20240213T104435Z
LAST-MODIFIED:20240410T143924Z
UID:10004114-1714122000-1714129200@associazioneamelie.ch
SUMMARY:Corso di alfabetizzazione livello A0\, per adulti migranti
DESCRIPTION:Tutti i corsi si svolgono da settembre a giugno\, con cadenza annuale\, una o due volte a settimana a seconda delle esigenze degli utenti iscritti. Sono aperti a tutti gli stranieri e alle persone che provengono da altri cantoni. \nSi richiede una presenza alle lezioni dell’80%  per il rilascio dell’attestato di frequenza. \n  \n\n\n\nGIORNI E ORARI: \nMercoledì\, giovedì e venerdì dalle 9 alle 11\n\n\nINSEGNANTE\nTiziana Marco\n\n\nLUOGO: \nCentro Amélie\, via Ceresio 43\, 6963 Pregassona \nSala 7\n\n\nCOSTO: \ngratuito\, si richiede un contributo di 15.- per i libri
URL:https://associazioneamelie.ch/corsi/corso-di-alfabetizzazione-livello-a0-per-adulti-migranti-2/2024-04-26/
LOCATION:Associazione Amélie\, Via Ceresio 43\, Pregassona\, 6963\, Svizzera
CATEGORIES:Italiano,Lingue
ATTACH;FMTTYPE=image/png:https://associazioneamelie.ch/wp-content/uploads/2024/04/corsi-di-italiano.png
END:VEVENT
BEGIN:VEVENT
DTSTART;TZID=Europe/Zurich:20240430T154500
DTEND;TZID=Europe/Zurich:20240430T181500
DTSTAMP:20260421T185926
CREATED:20230907T171617Z
LAST-MODIFIED:20240410T144339Z
UID:10003406-1714491900-1714500900@associazioneamelie.ch
SUMMARY:Corso di italiano A1/ A2\,  livello base per adulti migranti
DESCRIPTION:Tutti i corsi si svolgono da settembre a giugno\, con cadenza annuale\, una o due volte a settimana a seconda delle esigenze degli utenti iscritti. Sono aperti a tutti gli stranieri e alle persone che provengono da altri cantoni. \nSi richiede una presenza alle lezioni dell’80%  per il rilascio dell’attestato di frequenza. \n  \n\n\n\nGIORNI E ORARI: \nMartedì dalle 15.45 alle 18:15\n\n\nINSEGNANTE\nTiziana Marco\n\n\nLUOGO: \nCentro Amélie\, via Ceresio 43\, 6963 Pregassona \nSala 7\n\n\nCOSTO: \ngratuito\, si richiede un contributo di 15.- per i libri
URL:https://associazioneamelie.ch/corsi/corso-di-italiano-a1-a2-livello-base-per-adulti-migranti/2024-04-30/
LOCATION:Associazione Amélie\, Via Ceresio 43\, Pregassona\, 6963\, Svizzera
CATEGORIES:Italiano,Lingue
ATTACH;FMTTYPE=image/png:https://associazioneamelie.ch/wp-content/uploads/2024/04/corsi-di-italiano.png
END:VEVENT
END:VCALENDAR